BEGIN:VCALENDAR
VERSION:2.0
PRODID:-//HEAL - CHARITY PROJECTS - ECPv6.10.2//NONSGML v1.0//EN
CALSCALE:GREGORIAN
METHOD:PUBLISH
X-WR-CALNAME:HEAL - CHARITY PROJECTS
X-ORIGINAL-URL:https://healcharityprojects.co.uk
X-WR-CALDESC:Events for HEAL - CHARITY PROJECTS
REFRESH-INTERVAL;VALUE=DURATION:PT1H
X-Robots-Tag:noindex
X-PUBLISHED-TTL:PT1H
BEGIN:VTIMEZONE
TZID:UTC
BEGIN:STANDARD
TZOFFSETFROM:+0000
TZOFFSETTO:+0000
TZNAME:UTC
DTSTART:20250101T000000
END:STANDARD
END:VTIMEZONE
BEGIN:VEVENT
DTSTART;TZID=UTC:20250909T080000
DTEND;TZID=UTC:20270924T170000
DTSTAMP:20260421T121520
CREATED:20250111T041119Z
LAST-MODIFIED:20250311T153348Z
UID:262-1757404800-1821805200@healcharityprojects.co.uk
SUMMARY:Festival of Architecture and Interior
DESCRIPTION:Sed ut perspiciatis unde omnis iste natus error sit voluptatem accusantium doloremque laudantium\, totam rem aperiam\, eaque ipsa quae ab illo. \nSed ut perspiciatis unde omnis iste natus error sit voluptatem accusantium doloremque laudantium\, totam rem aperiam\, eaque ipsa quae ab illo inventore veritatis et quasi architecto beatae vitae dicta sunt explicabo. Nemo enim ipsam voluptatem quia voluptas sit aspernatur aut odit aut fugit\, sed quia consequuntur magni dolores eos qui ratione voluptatem sequi nesciunt.
URL:https://healcharityprojects.co.uk/event/festival-of-architecture-and-interior/
LOCATION:Sindh\, Pakistan\, Located on Mukitarkari Road\, Jacobabad\, Sindh\, 52000\, Pakistan
CATEGORIES:Seminars
ATTACH;FMTTYPE=image/jpeg:https://healcharityprojects.co.uk/wp-content/uploads/2023/01/event-5.jpg
ORGANIZER;CN="Gary Jones":MAILTO:events@example.com
END:VEVENT
END:VCALENDAR